BEGIN:VCALENDAR
VERSION:2.0
PRODID:logedetroffel.nl
BEGIN:VEVENT
UID:69e7748103a97
DTSTART;TZID="+02:00":20260915T200000
SEQUENCE:0
TRANSP:OPAQUE
DTEND;TZID="+02:00":20260915T220000
LOCATION:De Troffel\, Krabbenbosweg 47B 7555 EC Hengelo
SUMMARY:Opening Werkjaar Twentse Loges 
CLASS:PUBLIC
DESCRIPTION:Drie Twentse Loges openen gezamenlijk het Werkjaar 2026-2027
DTSTAMP:20260421T145841Z
END:VEVENT
END:VCALENDAR